BEGIN:VCALENDAR
VERSION:2.0
PRODID:-//CAI Namur - ECPv6.15.18//NONSGML v1.0//EN
CALSCALE:GREGORIAN
METHOD:PUBLISH
X-ORIGINAL-URL:https://cainamur.be
X-WR-CALDESC:Évènements pour CAI Namur
REFRESH-INTERVAL;VALUE=DURATION:PT1H
X-Robots-Tag:noindex
X-PUBLISHED-TTL:PT1H
BEGIN:VTIMEZONE
TZID:UTC
BEGIN:STANDARD
TZOFFSETFROM:+0000
TZOFFSETTO:+0000
TZNAME:UTC
DTSTART:20200101T000000
END:STANDARD
END:VTIMEZONE
BEGIN:VEVENT
DTSTART;TZID=UTC:20210910T093000
DTEND;TZID=UTC:20210910T163000
DTSTAMP:20260422T082905
CREATED:20210708T122102Z
LAST-MODIFIED:20210708T122102Z
UID:867-1631266200-1631291400@cainamur.be
SUMMARY:Enseigner et former en contexte multiculturel
DESCRIPTION:Enseigner et former en contexte multiculturel\nFormation de 5 jours : 3\, 10\, 17\, 23 septembre et 1er octobre 2021 de 9h30 à 16h30 \nPrésentation \nCes 5 journées de formation sont extraites du certificat en didactique du Flesco* et en pédagogie interculturelle.Durant cette formation\, les participants aborderont les contenus suivant : \n\n les causes et dynamiques des migrations : histoire et actualités de l’immigration en Belgique et politique des migrations ;\n l’accès au territoire et politique d’intégration : éclairage sur le contexte de la politique d’accueil et d’intégration ;\n les stéréotypes et préjugés : mécanismes de ces concepts ;\n enseigner\, communiquer et apprendre en contexte migratoire et multiculturel : introduction à l’approche interculturelle de M. Cohen Enrique et décentrement. Eclairage autour des concepts d’holisme et d’individualisme et l’impact de ces cadres de références pour l’apprenant.\n\nObjectifPermettre aux participants de mieux appréhender les cadres de références des apprenants en formation à la langue française. \nPublic viséCe module est ouvert à toutes personnes désireuses d’enseigner\, de communiquer et d’appréhender l’apprentissage en contexte migratoire et multiculturel. \n Formulaire d’inscriptions en ligne (obligatoire)\n Voir l’ensemble du programme de formations et séances d’info\n Modalités
URL:https://cainamur.be/agenda/enseigner-et-former-en-contexte-multiculturel-2/
LOCATION:Namur
END:VEVENT
END:VCALENDAR