BEGIN:VCALENDAR
VERSION:2.0
PRODID:-//CAI Namur - ECPv6.15.18//NONSGML v1.0//EN
CALSCALE:GREGORIAN
METHOD:PUBLISH
X-WR-CALNAME:CAI Namur
X-ORIGINAL-URL:https://cainamur.be
X-WR-CALDESC:Évènements pour CAI Namur
REFRESH-INTERVAL;VALUE=DURATION:PT1H
X-Robots-Tag:noindex
X-PUBLISHED-TTL:PT1H
BEGIN:VTIMEZONE
TZID:UTC
BEGIN:STANDARD
TZOFFSETFROM:+0000
TZOFFSETTO:+0000
TZNAME:UTC
DTSTART:20200101T000000
END:STANDARD
END:VTIMEZONE
BEGIN:VEVENT
DTSTART;TZID=UTC:20211009T103000
DTEND;TZID=UTC:20211009T130000
DTSTAMP:20260422T034248
CREATED:20211005T073505Z
LAST-MODIFIED:20211005T075621Z
UID:1868-1633775400-1633784400@cainamur.be
SUMMARY:Les Conférences du Samedi - "L'utopie\, une vieille idée toujours neuve."
DESCRIPTION:Les Conférences du Samedi vous proposent\, tout au long de la saison 2021-2022\, un programme roboratif et résolument optimiste avec un angle de vue progressiste et engagé qui constitue notre ADN et celui de notre programmation habituelle.\nCette année\, nous avons choisi un thème qui\, depuis des siècles\, vient régulièrement titiller l’esprit des philosophes\, des poètes et même des politiques : l’utopie.\nPour assister à la première conférence de ce cycle\, rendez-vous le Samedi 9 octobre à 10h30 au Théâtre de Namur.\n« L’Utopie\, une vieille idée toujours neuve »\, une conférence-débat de Serge Deruette\, professeur d’histoire de la pensée politique à l’Université de Mons (UMONS).\nParue en 1516\, L’Utopie de Thomas More fait date dans l’histoire des idées politiques. Elle est la première œuvre à prôner une société où l’appropriation privée des richesses a disparu et où le partage est la norme…\nAu Théâtre de Namur – Place du Théâtre 2 à 5000 Namur\nRéservation indispensable : contact@laicite.com – 081 73 01 31\nTarif : 5 €
URL:https://cainamur.be/agenda/les-conferences-du-samedi-lutopie-une-vieille-idee-toujours-neuve/
LOCATION:Théâtre de Namur\, Place du Théâtre\, Namur\, Namur\, 5000\, Belgique
ATTACH;FMTTYPE=image/jpeg:https://cainamur.be/wp-content/uploads/2021/10/242085810_4482215351821584_3819177677412006935_n.jpg
ORGANIZER;CN="CAI Namur":MAILTO:inscriptions@cainamur.be
END:VEVENT
END:VCALENDAR