BEGIN:VCALENDAR
VERSION:2.0
PRODID:-//CAI Namur - ECPv6.15.18//NONSGML v1.0//EN
CALSCALE:GREGORIAN
METHOD:PUBLISH
X-WR-CALNAME:CAI Namur
X-ORIGINAL-URL:https://cainamur.be
X-WR-CALDESC:Évènements pour CAI Namur
REFRESH-INTERVAL;VALUE=DURATION:PT1H
X-Robots-Tag:noindex
X-PUBLISHED-TTL:PT1H
BEGIN:VTIMEZONE
TZID:UTC
BEGIN:STANDARD
TZOFFSETFROM:+0000
TZOFFSETTO:+0000
TZNAME:UTC
DTSTART:20200101T000000
END:STANDARD
END:VTIMEZONE
BEGIN:VEVENT
DTSTART;TZID=UTC:20211012T170000
DTEND;TZID=UTC:20211012T190000
DTSTAMP:20260422T051918
CREATED:20210708T122721Z
LAST-MODIFIED:20210929T160405Z
UID:881-1634058000-1634065200@cainamur.be
SUMMARY:Séance d'info : Regroupement familial
DESCRIPTION:Le regroupement familial\nSéance d’info (2h) \nPrésentation \nLe regroupement familial est une procédure de séjour qui permet aux personnes étrangères ayant un membre de leur famille (nucléaire) en Belgique de venir le rejoindre sous certaines conditions.Elle constitue actuellement une des plus importantes portes d’entrée des migrants.Qui peut y prétendre ?Quelles sont les grandes étapes et les limites de cette procédure ?Cette séance d’information s’adresse aux personnes qui souhaitent aborder la question du regroupement familial tant en termes d’enjeux de société qu’en termes de démarches juridiques. \nMéthodologie \nPrésentation descendante suivie d’une séance de questions-réponses \nObjectifs \nComprendre ce qu’est le regroupement familial et les enjeux pour les personnes qui y ont recours. \nPublic visé \nCette formation s’adresse à tout citoyen\, professionnel ou volontaire désireux d’acquérir de la connaissance en la matière. \nDate : mardi 12 octobre 2021 de 17h30 à 19h30. \n Formulaire d’inscriptions en ligne (obligatoire)\n Voir l’ensemble du programme de formations et séances d’info\n Modalités
URL:https://cainamur.be/agenda/le-regroupement-familial/
LOCATION:Namur
ATTACH;FMTTYPE=image/jpeg:https://cainamur.be/wp-content/uploads/2021/09/Vignette-form-DDE-2021-e1632900716836.jpg
END:VEVENT
END:VCALENDAR