BEGIN:VCALENDAR
VERSION:2.0
PRODID:-//CAI Namur - ECPv6.15.18//NONSGML v1.0//EN
CALSCALE:GREGORIAN
METHOD:PUBLISH
X-WR-CALNAME:CAI Namur
X-ORIGINAL-URL:https://cainamur.be
X-WR-CALDESC:Évènements pour CAI Namur
REFRESH-INTERVAL;VALUE=DURATION:PT1H
X-Robots-Tag:noindex
X-PUBLISHED-TTL:PT1H
BEGIN:VTIMEZONE
TZID:UTC
BEGIN:STANDARD
TZOFFSETFROM:+0000
TZOFFSETTO:+0000
TZNAME:UTC
DTSTART:20200101T000000
END:STANDARD
END:VTIMEZONE
BEGIN:VEVENT
DTSTART;TZID=UTC:20211203T093000
DTEND;TZID=UTC:20211203T123000
DTSTAMP:20260421T233019
CREATED:20210708T123002Z
LAST-MODIFIED:20211004T132432Z
UID:885-1638523800-1638534600@cainamur.be
SUMMARY:Formation : Santé mentale : les séquelles de l’exil vendredi 3 décembre 2021 de 9h30 à 12h30
DESCRIPTION:Les matinées des thématiques interculturelles\nFormation de 4 matinées indépendantes \nPrésentation \nCe mini-cycle de formation vise à permettre aux opérateurs de l’intégration des personnes étrangères\, aux travailleurs de la sphère sociale et socioculturelle et à toute personne intéressée\, d’accéder à différents sujets thématiques de l’interculturalité en seulement quatre demi-journées. Une formule courte qui tient compte de la disponibilité parfois compliquée des participants. Un espace de dialogue et d’échanges dans lequel les exposés des intervenants sont enrichis par les expériences et les connaissances des participants. \n Peut-on rire de « tous » ? – vendredi 12 février 2021 de 9h30 à 12h30 [EN LIGNE] – Formation terminée\n Décolonisation de l’espace public : faut-il déboulonner les statues de Léopold II ? – vendredi 12 mars 2021 de 9h30 à 12h30 [EN LIGNE] – Formation terminée \n Hot Spot\, les camps de la honte en Europe – vendredi 30 avril 2021 de 9h30 à 12h30 \n Santé mentale : les séquelles de l’exilvendredi 3 décembre 2021 de 9h30 à 12h30Travailler au contact des migrants\, les accompagner à s’insérer dans la société belge nécessite de tenir compte de leur santé mentale. En effet\, s’il n’existe pas de pathologique spécifique liée la migration\, certaines problématiques se rencontrent fréquemment comme le trouble de stress post-traumatique et la dépression. Au-delà des facteurs de risque\, la santé psychique de ces personnes peut être influencée par le vécu prémigratoire\, le départ et le voyage et enfin\, le vécu post migratoire. A chacune de ces étapes\, les personnes peuvent vivre des situations difficiles qui laisseront des séquelles psychologiques à court\, à moyen et long terme. \nPublic visé \nCette formation s’adresse à toute personne\, professionnel et/ou citoyen\, désireuse d’enrichir ses connaissances sur des enjeux liés au vivre ensemble dans un contexte multiculturel. \n Formulaire d’inscriptions en ligne (obligatoire)\n Voir l’ensemble du programme de formations et séances d’info\n Modalités
URL:https://cainamur.be/agenda/sante-mentale-les-sequelles-de-lexil-vendredi-3-decembre-2021-de-9h30-a-12h30/
LOCATION:Namur
ATTACH;FMTTYPE=image/jpeg:https://cainamur.be/wp-content/uploads/2021/09/Vignette-form-comprendre-agir-2021-e1632900702749.jpg
END:VEVENT
END:VCALENDAR