BEGIN:VCALENDAR
VERSION:2.0
PRODID:-//CAI Namur - ECPv6.15.18//NONSGML v1.0//EN
CALSCALE:GREGORIAN
METHOD:PUBLISH
X-ORIGINAL-URL:https://cainamur.be
X-WR-CALDESC:Évènements pour CAI Namur
REFRESH-INTERVAL;VALUE=DURATION:PT1H
X-Robots-Tag:noindex
X-PUBLISHED-TTL:PT1H
BEGIN:VTIMEZONE
TZID:UTC
BEGIN:STANDARD
TZOFFSETFROM:+0000
TZOFFSETTO:+0000
TZNAME:UTC
DTSTART:20210101T000000
END:STANDARD
END:VTIMEZONE
BEGIN:VEVENT
DTSTART;TZID=UTC:20220330T093000
DTEND;TZID=UTC:20220331T163000
DTSTAMP:20260421T004503
CREATED:20220110T093945Z
LAST-MODIFIED:20220110T093945Z
UID:2688-1648632600-1648744200@cainamur.be
SUMMARY:Devenir formateur.trice à la citoyenneté dans le cadre du Parcours d’intégration en Wallonie
DESCRIPTION:
URL:https://cainamur.be/agenda/devenir-formateur-trice-a-la-citoyennete-dans-le-cadre-du-parcours-dintegration-en-wallonie-3/
LOCATION:Namur
END:VEVENT
END:VCALENDAR