BEGIN:VCALENDAR
VERSION:2.0
PRODID:-//CAI Namur - ECPv6.15.18//NONSGML v1.0//EN
CALSCALE:GREGORIAN
METHOD:PUBLISH
X-WR-CALNAME:CAI Namur
X-ORIGINAL-URL:https://cainamur.be
X-WR-CALDESC:Évènements pour CAI Namur
REFRESH-INTERVAL;VALUE=DURATION:PT1H
X-Robots-Tag:noindex
X-PUBLISHED-TTL:PT1H
BEGIN:VTIMEZONE
TZID:UTC
BEGIN:STANDARD
TZOFFSETFROM:+0000
TZOFFSETTO:+0000
TZNAME:UTC
DTSTART:20210101T000000
END:STANDARD
END:VTIMEZONE
BEGIN:VEVENT
DTSTART;TZID=UTC:20220923T090000
DTEND;TZID=UTC:20220923T160000
DTSTAMP:20260420T011727
CREATED:20220110T094400Z
LAST-MODIFIED:20220110T094400Z
UID:2698-1663923600-1663948800@cainamur.be
SUMMARY:Mieux connaître le droit des étrangers et sa jurisprudence
DESCRIPTION:
URL:https://cainamur.be/agenda/mieux-connaitre-le-droit-des-etrangers-et-sa-jurisprudence-4/
LOCATION:Namur
END:VEVENT
BEGIN:VEVENT
DTSTART;TZID=UTC:20220923T090000
DTEND;TZID=UTC:20220923T163000
DTSTAMP:20260420T011727
CREATED:20220110T093603Z
LAST-MODIFIED:20220110T093603Z
UID:2680-1663923600-1663950600@cainamur.be
SUMMARY:Enseigner et former en contexte multiculturel
DESCRIPTION:
URL:https://cainamur.be/agenda/enseigner-et-former-en-contexte-multiculturel-8/
LOCATION:Namur
END:VEVENT
END:VCALENDAR