BEGIN:VCALENDAR
VERSION:2.0
PRODID:-//CAI Namur - ECPv6.15.18//NONSGML v1.0//EN
CALSCALE:GREGORIAN
METHOD:PUBLISH
X-ORIGINAL-URL:https://cainamur.be
X-WR-CALDESC:Évènements pour CAI Namur
REFRESH-INTERVAL;VALUE=DURATION:PT1H
X-Robots-Tag:noindex
X-PUBLISHED-TTL:PT1H
BEGIN:VTIMEZONE
TZID:UTC
BEGIN:STANDARD
TZOFFSETFROM:+0000
TZOFFSETTO:+0000
TZNAME:UTC
DTSTART:20210101T000000
END:STANDARD
END:VTIMEZONE
BEGIN:VEVENT
DTSTART;TZID=UTC:20221130T090000
DTEND;TZID=UTC:20221130T163000
DTSTAMP:20260419T200009
CREATED:20221020T134547Z
LAST-MODIFIED:20221020T134547Z
UID:4647-1669798800-1669825800@cainamur.be
SUMMARY:COLLOQUE - Regards croisés sur la lutte contre le racisme : Enjeux et perspectives en Wallonie
DESCRIPTION:C’est avec plaisir que nous vous invitons au colloque\, réalisé par l’ensemble des centres régionaux d’intégration\, autour de la question de la lutte contre le racisme.\nPlus d’infos : http://cainamur.be/colloque-racisme/
URL:https://cainamur.be/agenda/colloque-regards-croises-sur-la-lutte-contre-le-racisme-enjeux-et-perspectives-en-wallonie/
LOCATION:Centre Culturel de La Marlagne\, chemin des Marronniers 26\, Wépion\, Namur\, 5100\, Belgique
ATTACH;FMTTYPE=image/jpeg:https://cainamur.be/wp-content/uploads/2022/10/SaveTheDate-ColloqueRacisme-002-scaled.jpg
END:VEVENT
END:VCALENDAR