BEGIN:VCALENDAR
VERSION:2.0
PRODID:-//CAI Namur - ECPv6.15.18//NONSGML v1.0//EN
CALSCALE:GREGORIAN
METHOD:PUBLISH
X-WR-CALNAME:CAI Namur
X-ORIGINAL-URL:https://cainamur.be
X-WR-CALDESC:Évènements pour CAI Namur
REFRESH-INTERVAL;VALUE=DURATION:PT1H
X-Robots-Tag:noindex
X-PUBLISHED-TTL:PT1H
BEGIN:VTIMEZONE
TZID:UTC
BEGIN:STANDARD
TZOFFSETFROM:+0000
TZOFFSETTO:+0000
TZNAME:UTC
DTSTART:20210101T000000
END:STANDARD
END:VTIMEZONE
BEGIN:VEVENT
DTSTART;TZID=UTC:20221209T093000
DTEND;TZID=UTC:20221209T123000
DTSTAMP:20260419T195927
CREATED:20221108T093622Z
LAST-MODIFIED:20221108T095710Z
UID:4683-1670578200-1670589000@cainamur.be
SUMMARY:FLE métier : des expériences à mettre en valeur
DESCRIPTION:Vue comme une des conditions préalables pour s’insérer sur le marché du travail ou intégrer une formation qualifiante\, la connaissance du français est une réelle nécessité pour les personnes étrangères dans leur démarche d’insertion socio-professionnelle. Cette importance est d’autant plus vraie dans une logique du parcours d’insertion linéaire : un palier doit être franchis avant de pouvoir accéder au suivant\, et ainsi de suite\, ce qui retarde l’entrée rapide dans le monde du travail voulue initialement par la personne.\nPlusieurs initiatives qui tendent à se distancer de cette manière de considérer l’insertion existent et ont été mises en place pour un apprentissage du français spécifiquement axé sur un métier et le monde du travail\, ou d’autres se mêlant à la formation qualifiante de manière simultanée. Par leurs approches innovantes\, elles tendent à réduire le temps entre la démarche active de recherche d’emplois de la personne et son entrée sur le marché du travail.\nCette séance d’informations a donc pour but de mettre en lumière différents projets afin d’envisager de nouvelles méthodologies d’action et/ou de stimuler la mise en place de projets similaires. \n> Cliquez ici pour plus d’infos
URL:https://cainamur.be/agenda/fle-metier-des-experiences-a-mettre-en-valeur/
LOCATION:CAI Namur\, rue Docteur Haibe 2\, Saint-Servais\, Namur\, 5002\, Belgique
CATEGORIES:Formation
ORGANIZER;CN="CAI Namur":MAILTO:inscriptions@cainamur.be
END:VEVENT
END:VCALENDAR