BEGIN:VCALENDAR
VERSION:2.0
PRODID:-//CAI Namur - ECPv6.15.18//NONSGML v1.0//EN
CALSCALE:GREGORIAN
METHOD:PUBLISH
X-ORIGINAL-URL:https://cainamur.be
X-WR-CALDESC:Évènements pour CAI Namur
REFRESH-INTERVAL;VALUE=DURATION:PT1H
X-Robots-Tag:noindex
X-PUBLISHED-TTL:PT1H
BEGIN:VTIMEZONE
TZID:UTC
BEGIN:STANDARD
TZOFFSETFROM:+0000
TZOFFSETTO:+0000
TZNAME:UTC
DTSTART:20210101T000000
END:STANDARD
END:VTIMEZONE
BEGIN:VEVENT
DTSTART;TZID=UTC:20220212T103000
DTEND;TZID=UTC:20220212T123000
DTSTAMP:20260421T071714
CREATED:20220201T092722Z
LAST-MODIFIED:20220201T092755Z
UID:2911-1644661800-1644669000@cainamur.be
SUMMARY:Conférences du samedi : Culture et migrations
DESCRIPTION:Un atelier-conférence animé par Amanda C. Da Silva\, doctorante en sciences politiques et sociales au Centre d’études sur l’ethnicité et les migrations (CEDEM) de l’Université de Liège et titulaire notamment d’un Master en Migrations Internationales de l’ISCTE-IUL (Lisbonne). Depuis 2012\, elle fait des recherches sur la construction de camps et de lieux d’exclusion des migrants\, avec un intérêt particulier sur les formes de mobilité et la solidarité. Amanda C. Da Silva fait partie de la « Cie Etat d’urgence »\, un collectif qui rassemble artistes et chercheurs autour des questions de société\, comme la migration.\nAu cours de cet atelier atypique\, Amanda C. Da Silva nous invite à considérer l’art comme un vecteur\, un outil\, un moyen d’enrichissement réciproque\, d’apprentissage et d’ouverture\, de relation à l’autre et au monde. De quoi prendre le contrepied des thèses d’exclusion\, de repli identitaire et de populisme… \nLE SAMEDI 12 FEVRIER A 10H30 AU THÉÂTRE DE NAMUR \nPlace du Théâtre\, 2 à Namur – € – Sur réservation via contact@laicite.com ou 081 73 01 31\n> Evénement Facebook \nContact CAI : Juliette Lavency – juliette@cainamur.be
URL:https://cainamur.be/agenda/conferences-du-samedi-culture-et-migrations/
LOCATION:Théâtre de Namur\, Place du Théâtre\, Namur\, Namur\, 5000\, Belgique
CATEGORIES:Conférence,Sensibilisation
ATTACH;FMTTYPE=image/jpeg:https://cainamur.be/wp-content/uploads/2022/02/conf-samedi-12-fevrier-pave-evenementiel.jpg
END:VEVENT
BEGIN:VEVENT
DTSTART;TZID=UTC:20220216T093000
DTEND;TZID=UTC:20220218T163000
DTSTAMP:20260421T071714
CREATED:20220110T091206Z
LAST-MODIFIED:20220201T092920Z
UID:2644-1645003800-1645201800@cainamur.be
SUMMARY:Cycle de formation : de la multiculturalité à l’interculturalité "initiation à l’interculturalité et découverte des pratiques interculturelles"
DESCRIPTION:
URL:https://cainamur.be/agenda/cycle-de-formation-de-la-multiculturalite-a-linterculturalite-initiation-a-linterculturalite-et-decouverte-des-pratiques-interculturelles/
LOCATION:Namur
ATTACH;FMTTYPE=image/jpeg:https://cainamur.be/wp-content/uploads/2022/01/2022_visus_form-intercult-mod1.jpg
END:VEVENT
END:VCALENDAR