BEGIN:VCALENDAR
VERSION:2.0
PRODID:-//CAI Namur - ECPv6.15.18//NONSGML v1.0//EN
CALSCALE:GREGORIAN
METHOD:PUBLISH
X-ORIGINAL-URL:https://cainamur.be
X-WR-CALDESC:Évènements pour CAI Namur
REFRESH-INTERVAL;VALUE=DURATION:PT1H
X-Robots-Tag:noindex
X-PUBLISHED-TTL:PT1H
BEGIN:VTIMEZONE
TZID:UTC
BEGIN:STANDARD
TZOFFSETFROM:+0000
TZOFFSETTO:+0000
TZNAME:UTC
DTSTART:20210101T000000
END:STANDARD
END:VTIMEZONE
BEGIN:VEVENT
DTSTART;TZID=UTC:20220421T200000
DTEND;TZID=UTC:20220421T220000
DTSTAMP:20260420T233520
CREATED:20220330T124830Z
LAST-MODIFIED:20250312T132407Z
UID:3624-1650571200-1650578400@cainamur.be
SUMMARY:Rencontre-conférence Cédric Herrou à Namur
DESCRIPTION:« Être paysan\, c’est être sensible à ce que sa région devient. »\nC’est avec ces quelques mots que Cédric Herrou a ouvert l’interview menée par la journaliste Sang-Sang Wu et publiée dans le n°4 de la revue Tchak !\nMais qui est-il ? C’est dans la vallée de la Roya\, aux confins des Alpes-Maritimes (France) et de l’Italie\, que le paysan sans histoires est devenu un héros pour les uns\, et un voyou pour les autres.\nDans sa ferme\, il a accueilli des milliers d’exilés voulant franchir la frontière italo-française\, ce qui lui a valu une dizaine d’arrestations et une condamnation à 4 mois de prison avec sursis.\nIl est alors question de « délit de solidarité ». Cédric ne se laisse pas faire et saisit le Conseil constitutionnel\, avec comme résultat la relaxe de toutes les poursuites.\nMais le paysan ne se repose pas sur ses victoires juridiques. En 2019\, avec sa compagne Marion Gachet\, ils lancent la communauté Emmaüs Roya\, première communauté Emmaüs tournée vers l’agriculture.\nOn pourrait encore continuer à vous parler de son parcours\, mais la revue Tchak! et ses partenaires ont eu une meilleure idée : ils vous invitent à rencontrer Cédric et Marion\, le jeudi 21 avril\, à Namur.\nEt pour vous parler de l’accueil des migrants dans notre région\, divers témoignages viendront compléter le récit de leur expérience.\nL’inscription se fait via ce lien : https://www.billetweb.fr/cedric-herrou et le paiement « libre et conscient » se fera sur place.\nLa rencontre-conférence sera suivie d’un moment convivial avec de quoi vous abreuver.\n\nLe livre de Cédric Herrou « Change ton monde » et des exemplaires de la revue Tchak seront également en vente sur place.\n\nLes partenaires pour l’édition namuroise sont :\n– Le collectif S13\n– Le collectif Citoyens Solidaire Namur\n– Le CAI Namur\n– La coopérative Paysans-Artisans\n– Les Ateliers Paysans-Artisans ASBL\n– La Fucid\n– La librairie Point Virgule\n– In My Name\n– La coordination wallonne des Collectifs et Associations venant en aide aux personnes en migration dite de transit\n– La FUGEA\n– Le CNCD 11.11.11 Namur\n\nEvénement sur Facebook : https://www.facebook.com/events/5550174351665815
URL:https://cainamur.be/agenda/rencontre-conference-cedric-herrou-a-namur/
LOCATION:UNamur Autditoire Pedro Arrupe 2\, Sentier Thomas\, Namur\, Namur\, 5000\, Belgique
CATEGORIES:Conférence,Sensibilisation
ORGANIZER;CN="CAI Namur":MAILTO:inscriptions@cainamur.be
END:VEVENT
BEGIN:VEVENT
DTSTART;TZID=UTC:20220422T190000
DTEND;TZID=UTC:20220507T170000
DTSTAMP:20260420T233520
CREATED:20220330T130826Z
LAST-MODIFIED:20220330T130826Z
UID:3629-1650654000-1651942800@cainamur.be
SUMMARY:Un regard neuf sur la Syrie
DESCRIPTION:Animations autour de l’expo-photo: 50 HUMANS\n\n50 photographies – 50 récits pour briser les stéréotypes liés aux migrations\nDu 22.04 au 7.05 – Vernissage le 22.04 à 19h en présence du photographe\n  A propos :\n50 Humans par Abdulazez DUKHAN est une exposition de photographies réalisées par un jeune réfugié syrien de 23 ans. Il arrive en Belgique en 2017\, après les camps en Grèce et la Turquie. C’est là-bas\, dans les camps de réfugiés qu’il se prend de passion pour la photographie. Une passion qu’il a continué à cultiver chez nous\, en parallèle à son bachelier en informatique à la VUB. Lors de l’été 2020\, il parcourt la Belgique des villes et des campagnes.\n« J’ai rencontré cinquante réfugiés et immigrants pour documenter leurs histoires de réussite et j’ai pris le portrait de chacun d’eux. L’objectif est d’apporter des histoires positives à une époque où la négativité retient beaucoup notre attention\, ainsi que de montrer leur contribution\, peu importe d’où ils viennent ou quelle couleur de peau ils ont ».\n\nAnimations autour de l’exposition seront organisées sur rendez-vous les 27.04 et 4.05 par AFICO et PAC Dinant- Philippeville.
URL:https://cainamur.be/agenda/un-regard-neuf-sur-la-syrie/
LOCATION:Bibliothèque de Florennes\, Avenue Jules Lahaye 4\, Florennes\, Namur\, 5620\, Belgique
CATEGORIES:Exposition,Sensibilisation
ATTACH;FMTTYPE=image/jpeg:https://cainamur.be/wp-content/uploads/2022/03/277362674_5804360022923855_5941749177375824474_n.jpg
ORGANIZER;CN="CAI Namur":MAILTO:inscriptions@cainamur.be
END:VEVENT
BEGIN:VEVENT
DTSTART;TZID=UTC:20220428T093000
DTEND;TZID=UTC:20220428T123000
DTSTAMP:20260420T233520
CREATED:20220110T092819Z
LAST-MODIFIED:20220201T093105Z
UID:2664-1651138200-1651149000@cainamur.be
SUMMARY:Cycle de formation anti-discrimination : Module 1 : La mécanique de la discrimination raciale
DESCRIPTION:
URL:https://cainamur.be/agenda/cycle-de-formation-anti-discrimination-module-1-la-mecanique-de-la-discrimination-raciale/
LOCATION:Namur
ATTACH;FMTTYPE=image/jpeg:https://cainamur.be/wp-content/uploads/2022/01/2022_visus_form_discriminations.jpg
END:VEVENT
BEGIN:VEVENT
DTSTART;TZID=UTC:20220428T133000
DTEND;TZID=UTC:20220428T163000
DTSTAMP:20260420T233520
CREATED:20220110T092914Z
LAST-MODIFIED:20220201T093048Z
UID:2667-1651152600-1651163400@cainamur.be
SUMMARY:Cycle de formation anti-discrimination : Module 2 : Unia et la législation anti-discrimination
DESCRIPTION:
URL:https://cainamur.be/agenda/cycle-de-formation-anti-discrimination-module-2-unia-et-la-legislation-anti-discrimination/
LOCATION:Namur
ATTACH;FMTTYPE=image/jpeg:https://cainamur.be/wp-content/uploads/2022/01/2022_visus_form_discriminations.jpg
END:VEVENT
BEGIN:VEVENT
DTSTART;TZID=UTC:20220429T093000
DTEND;TZID=UTC:20220429T123000
DTSTAMP:20260420T233520
CREATED:20220110T093022Z
LAST-MODIFIED:20220201T093029Z
UID:2669-1651224600-1651235400@cainamur.be
SUMMARY:Cycle de formation anti-discrimination : Module 3 : La loi anti-racisme et accompagner une victime de discrimination
DESCRIPTION:
URL:https://cainamur.be/agenda/cycle-de-formation-anti-discrimination-module-3-la-loi-anti-racisme-et-accompagner-une-victime-de-discrimination/
LOCATION:Namur
ATTACH;FMTTYPE=image/jpeg:https://cainamur.be/wp-content/uploads/2022/01/2022_visus_form_discriminations.jpg
END:VEVENT
END:VCALENDAR