BEGIN:VCALENDAR
VERSION:2.0
PRODID:-//CAI Namur - ECPv6.15.18//NONSGML v1.0//EN
CALSCALE:GREGORIAN
METHOD:PUBLISH
X-WR-CALNAME:CAI Namur
X-ORIGINAL-URL:https://cainamur.be
X-WR-CALDESC:Évènements pour CAI Namur
REFRESH-INTERVAL;VALUE=DURATION:PT1H
X-Robots-Tag:noindex
X-PUBLISHED-TTL:PT1H
BEGIN:VTIMEZONE
TZID:UTC
BEGIN:STANDARD
TZOFFSETFROM:+0000
TZOFFSETTO:+0000
TZNAME:UTC
DTSTART:20210101T000000
END:STANDARD
END:VTIMEZONE
BEGIN:VEVENT
DTSTART;TZID=UTC:20220422T190000
DTEND;TZID=UTC:20220507T170000
DTSTAMP:20260420T212002
CREATED:20220330T130826Z
LAST-MODIFIED:20220330T130826Z
UID:3629-1650654000-1651942800@cainamur.be
SUMMARY:Un regard neuf sur la Syrie
DESCRIPTION:Animations autour de l’expo-photo: 50 HUMANS\n\n50 photographies – 50 récits pour briser les stéréotypes liés aux migrations\nDu 22.04 au 7.05 – Vernissage le 22.04 à 19h en présence du photographe\n  A propos :\n50 Humans par Abdulazez DUKHAN est une exposition de photographies réalisées par un jeune réfugié syrien de 23 ans. Il arrive en Belgique en 2017\, après les camps en Grèce et la Turquie. C’est là-bas\, dans les camps de réfugiés qu’il se prend de passion pour la photographie. Une passion qu’il a continué à cultiver chez nous\, en parallèle à son bachelier en informatique à la VUB. Lors de l’été 2020\, il parcourt la Belgique des villes et des campagnes.\n« J’ai rencontré cinquante réfugiés et immigrants pour documenter leurs histoires de réussite et j’ai pris le portrait de chacun d’eux. L’objectif est d’apporter des histoires positives à une époque où la négativité retient beaucoup notre attention\, ainsi que de montrer leur contribution\, peu importe d’où ils viennent ou quelle couleur de peau ils ont ».\n\nAnimations autour de l’exposition seront organisées sur rendez-vous les 27.04 et 4.05 par AFICO et PAC Dinant- Philippeville.
URL:https://cainamur.be/agenda/un-regard-neuf-sur-la-syrie/
LOCATION:Bibliothèque de Florennes\, Avenue Jules Lahaye 4\, Florennes\, Namur\, 5620\, Belgique
CATEGORIES:Exposition,Sensibilisation
ATTACH;FMTTYPE=image/jpeg:https://cainamur.be/wp-content/uploads/2022/03/277362674_5804360022923855_5941749177375824474_n.jpg
ORGANIZER;CN="CAI Namur":MAILTO:inscriptions@cainamur.be
END:VEVENT
BEGIN:VEVENT
DTSTART;TZID=UTC:20220505T093000
DTEND;TZID=UTC:20220505T123000
DTSTAMP:20260420T212002
CREATED:20220112T123109Z
LAST-MODIFIED:20220201T093135Z
UID:2787-1651743000-1651753800@cainamur.be
SUMMARY:Le deuil en exil
DESCRIPTION:
URL:https://cainamur.be/agenda/le-deuil-en-exil/
LOCATION:CAI Namur\, rue Docteur Haibe 2\, Saint-Servais\, Namur\, 5002\, Belgique
ATTACH;FMTTYPE=image/jpeg:https://cainamur.be/wp-content/uploads/2022/01/2022_visus_form-deuil.jpg
ORGANIZER;CN="CAI Namur":MAILTO:inscriptions@cainamur.be
END:VEVENT
BEGIN:VEVENT
DTSTART;TZID=UTC:20220513T093000
DTEND;TZID=UTC:20220513T123000
DTSTAMP:20260420T212002
CREATED:20220110T092702Z
LAST-MODIFIED:20220110T092702Z
UID:2660-1652434200-1652445000@cainamur.be
SUMMARY:Connaître son public : "LGBTQIA2+ et migration : regard intersectionnel"
DESCRIPTION:
URL:https://cainamur.be/agenda/connaitre-son-public-lgbtqia2-et-migration-regard-intersectionnel/
LOCATION:Namur
END:VEVENT
BEGIN:VEVENT
DTSTART;TZID=UTC:20220514T103000
DTEND;TZID=UTC:20220514T123000
DTSTAMP:20260420T212002
CREATED:20220428T130026Z
LAST-MODIFIED:20220428T132622Z
UID:3772-1652524200-1652531400@cainamur.be
SUMMARY:«LA DIFFICULTÉ D’ACCÈS AU LOGEMENT\, UNE FATALITÉ ?»
DESCRIPTION:UNE CONFÉRENCE PARTICIPATIVE DE CHRISTINE MAHY\nLe droit au logement est inscrit dans la Constitution belge. C’est donc un droit fondamental qui devrait être effectif pour toutes et tous. Pourtant\, chômeurs\, familles monoparentales\, personnes étrangères\, jeunes adultes\, femmes\nseules\, personnes âgées\, demandeurs d’asile et personnes sans domicile fixe éprouvent les pires difficultés à accéder à un logement décent…\nAssistante sociale de formation et militante engagée\, Christine Mahy est la Secrétaire générale du Réseau Wallon de Lutte contre la Pauvreté. Cette grande figure de la justice sociale considère la lutte contre la pauvreté comme une priorité qui touche de près la question de la démocratie… \nAU THÉÂTRE DE NAMUR\nPlace du Théâtre\, 2 à Namur – Le samedi à 10h30 – 5€* – Réservation indispensable : contact@laicite.com – 081 73 01 31\n(*si le paiement de cette somme vous met dans l’inconfort\, vous serez notre invité.e)
URL:https://cainamur.be/agenda/la-difficulte-dacces-au-logement-une-fatalite/
LOCATION:Théâtre de Namur\, Place du Théâtre\, Namur\, Namur\, 5000\, Belgique
CATEGORIES:Conférence
ATTACH;FMTTYPE=image/jpeg:https://cainamur.be/wp-content/uploads/2022/04/conf-samedi-utopie-500x262-1.jpg
ORGANIZER;CN="CAI Namur":MAILTO:inscriptions@cainamur.be
END:VEVENT
END:VCALENDAR