BEGIN:VCALENDAR
VERSION:2.0
PRODID:-//CAI Namur - ECPv6.15.18//NONSGML v1.0//EN
CALSCALE:GREGORIAN
METHOD:PUBLISH
X-WR-CALNAME:CAI Namur
X-ORIGINAL-URL:https://cainamur.be
X-WR-CALDESC:Évènements pour CAI Namur
REFRESH-INTERVAL;VALUE=DURATION:PT1H
X-Robots-Tag:noindex
X-PUBLISHED-TTL:PT1H
BEGIN:VTIMEZONE
TZID:UTC
BEGIN:STANDARD
TZOFFSETFROM:+0000
TZOFFSETTO:+0000
TZNAME:UTC
DTSTART:20210101T000000
END:STANDARD
END:VTIMEZONE
BEGIN:VEVENT
DTSTART;TZID=UTC:20220602T093000
DTEND;TZID=UTC:20220603T163000
DTSTAMP:20260420T135851
CREATED:20220110T094651Z
LAST-MODIFIED:20220110T094651Z
UID:2704-1654162200-1654273800@cainamur.be
SUMMARY:Concevoir et produire des contenus vidéo pédagogiques
DESCRIPTION:
URL:https://cainamur.be/agenda/concevoir-et-produire-des-contenus-video-pedagogiques/
LOCATION:Namur
END:VEVENT
BEGIN:VEVENT
DTSTART;TZID=UTC:20220613T090000
DTEND;TZID=UTC:20220613T163000
DTSTAMP:20260420T135851
CREATED:20220530T123611Z
LAST-MODIFIED:20220608T073229Z
UID:4062-1655110800-1655137800@cainamur.be
SUMMARY:Assemblée Plénière du PPLI 2022
DESCRIPTION:Cette fois-ci\, c’est la bonne…\nLe CAI vous invite pour une journée en deux temps : \nUn premier moment pour écouter\, questionner et réfléchir sur les enjeux actuels globaux qui nous touchent\, nous\, les acteurs et les actrices de l’intégration. Parce que ce qui se passe et se décide à un niveau national se répercute\, entre autres\, sur l’ensemble de la province de Namur. \nUn second moment pour plonger dans la réalité locale. Car fort heureusement\, les professionnel.les comme les bénévoles font preuve d’engagement et de créativité\, sur leurs territoires d’action respectifs\, pour trouver des solutions et ainsi\, améliorer l’accès aux droits fondamentaux des personnes étrangères. C’est bien le second objectif de cette journée : partager et mettre en valeur ces initiatives pour qu’elles inspirent et qu’elles suscitent l’envie de les multiplier. \nEnfin\, cette plénière est aussi l’occasion de se retrouver\, toutes et tous ensemble\, pour se (re)découvrir et pour (re)nouer des liens et des collaborations. \nRendez-vous le 13 juin 2022 de 9h à 16h\nau Centre Culturel de la Marlagne\nLa participation est gratuite et ouverte à tou.te.s (inscription obligatoire)\n  \nCliquez ici pour le découvrir programme complet et remplir le formulaire d’inscription
URL:https://cainamur.be/agenda/assemblee-pleniere-du-ppli-2022/
LOCATION:Centre Culturel de La Marlagne\, chemin des Marronniers 26\, Wépion\, Namur\, 5100\, Belgique
CATEGORIES:Conférence,Réseautage
ATTACH;FMTTYPE=image/jpeg:https://cainamur.be/wp-content/uploads/2022/05/20220613_ppli-facebook-scaled.jpg
ORGANIZER;CN="CAI Namur":MAILTO:inscriptions@cainamur.be
END:VEVENT
BEGIN:VEVENT
DTSTART;TZID=UTC:20220616T093000
DTEND;TZID=UTC:20220617T163000
DTSTAMP:20260420T135851
CREATED:20220110T094107Z
LAST-MODIFIED:20220110T094107Z
UID:2690-1655371800-1655483400@cainamur.be
SUMMARY:Comment rendre accessible pour tout public vos supports communicatifs ?
DESCRIPTION:
URL:https://cainamur.be/agenda/comment-rendre-accessible-pour-tout-public-vos-supports-communicatifs/
LOCATION:Namur
END:VEVENT
BEGIN:VEVENT
DTSTART;TZID=UTC:20220621T093000
DTEND;TZID=UTC:20220621T123000
DTSTAMP:20260420T135851
CREATED:20220530T125214Z
LAST-MODIFIED:20220530T134501Z
UID:4066-1655803800-1655814600@cainamur.be
SUMMARY:Les Roms d’Ukraine : mieux comprendre pour mieux accueillir
DESCRIPTION:« La crise de l’accueil à la suite de la guerre en Ukraine pose des défis particuliers. Un grand nombre de personnes fuyant leur pays\, notamment des femmes et des enfants\, recherchent la sécurité dans notre pays. Nous ferons tout ce qui est en notre pouvoir pour répondre à ce besoin« \, Annelies Verlinden. \nDepuis cette déclaration\, effectuée le 18 mars dernier lors de l’envoi d’une circulaire à l’ensemble des bourgmestres de Belgique\, des familles ukrainiennes sont accueillies dans nos petites et grandes communes de Wallonie\, que ce soit au sein des milliers de familles qui se sont portées volontaires ou dans des logements proposés par les autorités locales. \nSi cette situation inédite pose des défis particuliers\, il semble que l’accueil de ces familles\, lorsqu’elles sont roms\, en pose d’autres : choc culturel ? Familles élargies ? Scolarisation des enfants ?  Inadéquation des solutions proposées aux familles accueillies ?  Ces défis sont-ils réels ? Fantasmés par les stéréotypes ?  Les Ukrainiens roms sont-ils des Ukrainiens comme les autres ?  Comment les accueillir ?  Comment les insérer dans le parcours d’intégration ? \nPour répondre à ces questions – et bien d’autres ! – le Centre de Médiation des Gens du Voyage et des Roms organise\, en partenariat avec le Centre d’Action interculturelle de la Province de Namur\, une formation à destination des médiateurs(trices) roms et aussi à tout intervenant\, médiateur\, accompagnateur ou encore hébergeur qui accueille ou travaille en contact avec les populations concernées. \nObjectifs : \n\nMieux connaître le public rom ukrainien : au niveau culturel\, historique\, politique\nComprendre la politique wallonne d’accueil des réfugiés ukrainiens\nConnaître les services\, les procédures d’aide aux réfugiés ukrainiens\nDégager les bonnes pratiques d’accueil et d’accompagnement\n\nCliquez ici pour découvrir le programme complet et remplir le formulaire d’inscription
URL:https://cainamur.be/agenda/les-roms-dukraine-mieux-comprendre-pour-mieux-accueillir/
LOCATION:Centre de Médiation des Gens du Voyage et des Roms en Wallonie\, rue Brognet 12\, Namur\, Namur\, 5000\, Belgique
CATEGORIES:Conférence,Formation
ATTACH;FMTTYPE=image/png:https://cainamur.be/wp-content/uploads/2022/05/rom.png
ORGANIZER;CN="CAI Namur":MAILTO:inscriptions@cainamur.be
END:VEVENT
BEGIN:VEVENT
DTSTART;TZID=UTC:20220624T093000
DTEND;TZID=UTC:20220628T163000
DTSTAMP:20260420T135851
CREATED:20220428T111502Z
LAST-MODIFIED:20220428T112351Z
UID:3769-1656063000-1656433800@cainamur.be
SUMMARY:Cycle de formation : de la multiculturalité à l’interculturalité : Concevoir et développer un projet interculturel
DESCRIPTION:
URL:https://cainamur.be/agenda/cycle-de-formation-de-la-multiculturalite-a-linterculturalite-concevoir-et-developper-un-projet-interculturel/
LOCATION:CAI Namur\, rue Docteur Haibe 2\, Saint-Servais\, Namur\, 5002\, Belgique
CATEGORIES:Formation
ATTACH;FMTTYPE=image/jpeg:https://cainamur.be/wp-content/uploads/2022/04/2022_visus_form-intercult-mod1.jpg
ORGANIZER;CN="CAI Namur":MAILTO:inscriptions@cainamur.be
END:VEVENT
BEGIN:VEVENT
DTSTART;TZID=UTC:20220629T093000
DTEND;TZID=UTC:20220630T163000
DTSTAMP:20260420T135851
CREATED:20220110T094822Z
LAST-MODIFIED:20220110T094822Z
UID:2708-1656495000-1656606600@cainamur.be
SUMMARY:Facilitation visuelle : pour une communication et un apprentissage
DESCRIPTION:
URL:https://cainamur.be/agenda/facilitation-visuelle-pour-une-communication-et-un-apprentissage/
LOCATION:Namur
END:VEVENT
END:VCALENDAR