BEGIN:VCALENDAR
VERSION:2.0
PRODID:-//CAI Namur - ECPv6.15.18//NONSGML v1.0//EN
CALSCALE:GREGORIAN
METHOD:PUBLISH
X-ORIGINAL-URL:https://cainamur.be
X-WR-CALDESC:Évènements pour CAI Namur
REFRESH-INTERVAL;VALUE=DURATION:PT1H
X-Robots-Tag:noindex
X-PUBLISHED-TTL:PT1H
BEGIN:VTIMEZONE
TZID:UTC
BEGIN:STANDARD
TZOFFSETFROM:+0000
TZOFFSETTO:+0000
TZNAME:UTC
DTSTART:20210101T000000
END:STANDARD
END:VTIMEZONE
BEGIN:VEVENT
DTSTART;TZID=UTC:20220901T180000
DTEND;TZID=UTC:20220901T203000
DTSTAMP:20260419T223144
CREATED:20220804T151031Z
LAST-MODIFIED:20220804T151031Z
UID:4364-1662055200-1662064200@cainamur.be
SUMMARY:Soirée de clôture du projet « Devenez ambassadeur.rice interculturel.le »
DESCRIPTION:Le 1er septembre 2022 de 18h à 20h30\nAu Centre Culturel des Anciens Abattoirs de Bomel\nEn 2019\, le CAI lançait le projet « Devenir ambassadeur.drice intercuturel.le »\, en partenariat avec l’Organisation européenne de formation par les pairs\, mieux connue sous l’acronyme « EPTO ». \nRetardée par la crise sanitaire\, cette formation à destination des jeunes s’est terminée cette année avec trois journées d’intervisions avec les animatrices ayant participé au projet. De ces journées est né un rapport qui vous sera présenté en primeur ce 1er septembre. \nCette publication est destinée aux professionnel.les du secteur jeunesse désireux.euses de mettre en place des projets interculturels. Outre quelques apports conceptuels\, elle résume les réflexions\, les points d’attention ainsi que les perspectives de solutions amenées par les participantes au départ de leur expérience de terrain respective. \nVous êtes donc les bienvenu.e.s à notre soirée de clôture du projet ce 1er septembre 2022 au Centre Culturel des Anciens Abattoirs de Bomel de 18h à 20h30. \n\nAu programme\n\nPrésentation du rapport d’intervision des animatrices du projet « Devenir abassadeur.drice interculturel.le » et témoignages des formatrices et des participant.e.s\n« Mener des projets interculturels avec des jeunes » – intervention de Foued Bellali\, formateur et animateur à l’asbl 2Bouts\nConvivialité\, échanges et petite restauration disponible toute la soirée\n\n> Infos et inscriptions ici
URL:https://cainamur.be/agenda/soiree-de-cloture-du-projet-devenez-ambassadeur-rice-interculturel-le/
LOCATION:Centre Culturel des Anciens Abattoirs de Bomel\, traverse des Muses\, 18\, 5000\, Namur\, 5000\, Belgique
CATEGORIES:Soirée de clôture
ORGANIZER;CN="CAI Namur":MAILTO:inscriptions@cainamur.be
END:VEVENT
BEGIN:VEVENT
DTSTART;TZID=UTC:20220902T090000
DTEND;TZID=UTC:20220902T160000
DTSTAMP:20260419T223144
CREATED:20220110T094219Z
LAST-MODIFIED:20220110T094219Z
UID:2692-1662109200-1662134400@cainamur.be
SUMMARY:Mieux connaître le droit des étrangers et sa jurisprudence
DESCRIPTION:
URL:https://cainamur.be/agenda/mieux-connaitre-le-droit-des-etrangers-et-sa-jurisprudence/
LOCATION:Namur
END:VEVENT
BEGIN:VEVENT
DTSTART;TZID=UTC:20220902T090000
DTEND;TZID=UTC:20220902T163000
DTSTAMP:20260419T223144
CREATED:20220110T093317Z
LAST-MODIFIED:20220110T093317Z
UID:2672-1662109200-1662136200@cainamur.be
SUMMARY:Enseigner et former en contexte multiculturel
DESCRIPTION:
URL:https://cainamur.be/agenda/enseigner-et-former-en-contexte-multiculturel-5/
LOCATION:Namur
END:VEVENT
BEGIN:VEVENT
DTSTART;TZID=UTC:20220909T090000
DTEND;TZID=UTC:20220909T160000
DTSTAMP:20260419T223144
CREATED:20220110T094300Z
LAST-MODIFIED:20220110T094300Z
UID:2694-1662714000-1662739200@cainamur.be
SUMMARY:Mieux connaître le droit des étrangers et sa jurisprudence
DESCRIPTION:
URL:https://cainamur.be/agenda/mieux-connaitre-le-droit-des-etrangers-et-sa-jurisprudence-2/
LOCATION:Namur
END:VEVENT
BEGIN:VEVENT
DTSTART;TZID=UTC:20220909T090000
DTEND;TZID=UTC:20220909T163000
DTSTAMP:20260419T223144
CREATED:20220110T093431Z
LAST-MODIFIED:20220110T093431Z
UID:2676-1662714000-1662741000@cainamur.be
SUMMARY:Enseigner et former en contexte multiculturel
DESCRIPTION:
URL:https://cainamur.be/agenda/enseigner-et-former-en-contexte-multiculturel-6/
LOCATION:Namur
END:VEVENT
BEGIN:VEVENT
DTSTART;TZID=UTC:20220916T090000
DTEND;TZID=UTC:20220916T160000
DTSTAMP:20260419T223144
CREATED:20220110T094329Z
LAST-MODIFIED:20220110T094329Z
UID:2696-1663318800-1663344000@cainamur.be
SUMMARY:Mieux connaître le droit des étrangers et sa jurisprudence
DESCRIPTION:
URL:https://cainamur.be/agenda/mieux-connaitre-le-droit-des-etrangers-et-sa-jurisprudence-3/
LOCATION:Namur
END:VEVENT
BEGIN:VEVENT
DTSTART;TZID=UTC:20220916T090000
DTEND;TZID=UTC:20220916T163000
DTSTAMP:20260419T223144
CREATED:20220110T093528Z
LAST-MODIFIED:20220110T093528Z
UID:2678-1663318800-1663345800@cainamur.be
SUMMARY:Enseigner et former en contexte multiculturel
DESCRIPTION:
URL:https://cainamur.be/agenda/enseigner-et-former-en-contexte-multiculturel-7/
LOCATION:Namur
END:VEVENT
BEGIN:VEVENT
DTSTART;TZID=UTC:20220923T090000
DTEND;TZID=UTC:20220923T160000
DTSTAMP:20260419T223144
CREATED:20220110T094400Z
LAST-MODIFIED:20220110T094400Z
UID:2698-1663923600-1663948800@cainamur.be
SUMMARY:Mieux connaître le droit des étrangers et sa jurisprudence
DESCRIPTION:
URL:https://cainamur.be/agenda/mieux-connaitre-le-droit-des-etrangers-et-sa-jurisprudence-4/
LOCATION:Namur
END:VEVENT
BEGIN:VEVENT
DTSTART;TZID=UTC:20220923T090000
DTEND;TZID=UTC:20220923T163000
DTSTAMP:20260419T223144
CREATED:20220110T093603Z
LAST-MODIFIED:20220110T093603Z
UID:2680-1663923600-1663950600@cainamur.be
SUMMARY:Enseigner et former en contexte multiculturel
DESCRIPTION:
URL:https://cainamur.be/agenda/enseigner-et-former-en-contexte-multiculturel-8/
LOCATION:Namur
END:VEVENT
BEGIN:VEVENT
DTSTART;TZID=UTC:20220930T090000
DTEND;TZID=UTC:20220930T163000
DTSTAMP:20260419T223144
CREATED:20220110T093633Z
LAST-MODIFIED:20220110T093633Z
UID:2682-1664528400-1664555400@cainamur.be
SUMMARY:Enseigner et former en contexte multiculturel
DESCRIPTION:
URL:https://cainamur.be/agenda/enseigner-et-former-en-contexte-multiculturel-9/
LOCATION:Namur
END:VEVENT
BEGIN:VEVENT
DTSTART;TZID=UTC:20220930T093000
DTEND;TZID=UTC:20220930T163000
DTSTAMP:20260419T223144
CREATED:20220110T094458Z
LAST-MODIFIED:20220110T094458Z
UID:2700-1664530200-1664555400@cainamur.be
SUMMARY:Le regroupement familial
DESCRIPTION:
URL:https://cainamur.be/agenda/le-regroupement-familial-2/
LOCATION:Namur
END:VEVENT
END:VCALENDAR