BEGIN:VCALENDAR
VERSION:2.0
PRODID:-//CAI Namur - ECPv6.15.18//NONSGML v1.0//EN
CALSCALE:GREGORIAN
METHOD:PUBLISH
X-ORIGINAL-URL:https://cainamur.be
X-WR-CALDESC:Évènements pour CAI Namur
REFRESH-INTERVAL;VALUE=DURATION:PT1H
X-Robots-Tag:noindex
X-PUBLISHED-TTL:PT1H
BEGIN:VTIMEZONE
TZID:UTC
BEGIN:STANDARD
TZOFFSETFROM:+0000
TZOFFSETTO:+0000
TZNAME:UTC
DTSTART:20210101T000000
END:STANDARD
END:VTIMEZONE
BEGIN:VEVENT
DTSTART;TZID=UTC:20221006T093000
DTEND;TZID=UTC:20221006T123000
DTSTAMP:20260420T024753
CREATED:20220110T091739Z
LAST-MODIFIED:20220110T091739Z
UID:2646-1665048600-1665059400@cainamur.be
SUMMARY:Etrangers en Belgique : Causes et dynamiques des migrations
DESCRIPTION:
URL:https://cainamur.be/agenda/etrangers-en-belgique-causes-et-dynamiques-des-migrations/
LOCATION:Namur
END:VEVENT
BEGIN:VEVENT
DTSTART;TZID=UTC:20221007T093000
DTEND;TZID=UTC:20221007T123000
DTSTAMP:20260420T024753
CREATED:20220110T092147Z
LAST-MODIFIED:20220110T092147Z
UID:2652-1665135000-1665145800@cainamur.be
SUMMARY:Etrangers en Belgique : "Au temps des migrations : découverte ludique de l’histoire de l’immigration en Belgique"
DESCRIPTION:
URL:https://cainamur.be/agenda/etrangers-en-belgique-au-temps-des-migrations-decouverte-ludique-de-lhistoire-de-limmigration-en-belgique/
LOCATION:Namur
END:VEVENT
BEGIN:VEVENT
DTSTART;TZID=UTC:20221013T093000
DTEND;TZID=UTC:20221013T123000
DTSTAMP:20260420T024753
CREATED:20220110T092246Z
LAST-MODIFIED:20220110T092246Z
UID:2654-1665653400-1665664200@cainamur.be
SUMMARY:Etrangers en Belgique : "Dette\, finance\, pillage de ressources… Comment l’économie détermine les migrations"
DESCRIPTION:
URL:https://cainamur.be/agenda/etrangers-en-belgique-dette-finance-pillage-de-ressources-comment-leconomie-determine-les-migrations/
LOCATION:Namur
END:VEVENT
BEGIN:VEVENT
DTSTART;TZID=UTC:20221014T093000
DTEND;TZID=UTC:20221014T123000
DTSTAMP:20260420T024753
CREATED:20220110T092353Z
LAST-MODIFIED:20220110T092353Z
UID:2656-1665739800-1665750600@cainamur.be
SUMMARY:Etrangers en Belgique : « Tous pareils » : mécanique des stéréotypes et préjugés envers les étrangers
DESCRIPTION:
URL:https://cainamur.be/agenda/etrangers-en-belgique-tous-pareils-mecanique-des-stereotypes-et-prejuges-envers-les-etrangers/
LOCATION:Namur
END:VEVENT
BEGIN:VEVENT
DTSTART;TZID=UTC:20221021T093000
DTEND;TZID=UTC:20221021T163000
DTSTAMP:20260420T024753
CREATED:20220110T094557Z
LAST-MODIFIED:20220110T094557Z
UID:2702-1666344600-1666369800@cainamur.be
SUMMARY:Accès à la nationalité belge
DESCRIPTION:
URL:https://cainamur.be/agenda/acces-a-la-nationalite-belge-2/
LOCATION:Namur
END:VEVENT
END:VCALENDAR