BEGIN:VCALENDAR
VERSION:2.0
PRODID:-//CAI Namur - ECPv6.15.18//NONSGML v1.0//EN
CALSCALE:GREGORIAN
METHOD:PUBLISH
X-ORIGINAL-URL:https://cainamur.be
X-WR-CALDESC:Évènements pour CAI Namur
REFRESH-INTERVAL;VALUE=DURATION:PT1H
X-Robots-Tag:noindex
X-PUBLISHED-TTL:PT1H
BEGIN:VTIMEZONE
TZID:UTC
BEGIN:STANDARD
TZOFFSETFROM:+0000
TZOFFSETTO:+0000
TZNAME:UTC
DTSTART:20220101T000000
END:STANDARD
END:VTIMEZONE
BEGIN:VEVENT
DTSTART;TZID=UTC:20230207T173000
DTEND;TZID=UTC:20230207T193000
DTSTAMP:20260419T161752
CREATED:20230127T132005Z
LAST-MODIFIED:20230127T132213Z
UID:5486-1675791000-1675798200@cainamur.be
SUMMARY:Droit des ASBL : Les statuts
DESCRIPTION:Présentation\nQu’est-ce qu’une asbl au regard de la nouvelle législation ?\nQuelles sont les mentions légales obligatoires des statuts ?\nCette formation a pour objet de permettre aux associations de pouvoir se mettre en conformité avec les récentes modifications légales et ainsi\, pouvoir pérenniser son activité comme son existence. En début de formation\, une présentation des nouveautés issues de la réforme ayant abouti à l’adoption du code des sociétés et des associations permettra aux participant.e.s de mieux comprendre les enjeux et les obligations qui en découlent.\nIci\, les statuts seront envisagés comme un véritable outil de fonctionnement de l’association au service de la structure et de ses gestionnaires.\nDurant ces 2 soirées\, le/la formateur.rice formulera des recommandations tant sur la formulation que sur des mentions facultatives au regard de la bonne gouvernance.\nA l’issue de cette formation\, un accompagnement peut être proposé consistant en la relecture et correction des statuts des associations afin de s’assurer de leur mise en conformité au code des sociétés et associations. \nPour rappel\, les asbl doivent être à jour pour décembre 2023 ! Cette formation a donc toute son importance !\n> plus d’infos
URL:https://cainamur.be/agenda/droit-des-asbl-les-statuts/
LOCATION:CAI Namur\, rue Docteur Haibe 2\, Saint-Servais\, Namur\, 5002\, Belgique
ATTACH;FMTTYPE=image/png:https://cainamur.be/wp-content/uploads/2023/01/2023_visu_form_statuts.png
ORGANIZER;CN="CAI Namur":MAILTO:inscriptions@cainamur.be
END:VEVENT
BEGIN:VEVENT
DTSTART;TZID=UTC:20230213T173000
DTEND;TZID=UTC:20230213T203000
DTSTAMP:20260419T161752
CREATED:20230129T191918Z
LAST-MODIFIED:20230129T191918Z
UID:5513-1676309400-1676320200@cainamur.be
SUMMARY:Droit des ASBL : Les statuts
DESCRIPTION:Présentation\nQu’est-ce qu’une asbl au regard de la nouvelle législation ?\nQuelles sont les mentions légales obligatoires des statuts ?\nCette formation a pour objet de permettre aux associations de pouvoir se mettre en conformité avec les récentes modifications légales et ainsi\, pouvoir pérenniser son activité comme son existence. En début de formation\, une présentation des nouveautés issues de la réforme ayant abouti à l’adoption du code des sociétés et des associations permettra aux participant.e.s de mieux comprendre les enjeux et les obligations qui en découlent.\nIci\, les statuts seront envisagés comme un véritable outil de fonctionnement de l’association au service de la structure et de ses gestionnaires.\nDurant ces 2 soirées\, le/la formateur.rice formulera des recommandations tant sur la formulation que sur des mentions facultatives au regard de la bonne gouvernance.\nA l’issue de cette formation\, un accompagnement peut être proposé consistant en la relecture et correction des statuts des associations afin de s’assurer de leur mise en conformité au code des sociétés et associations. \nPour rappel\, les asbl doivent être à jour pour décembre 2023 ! Cette formation a donc toute son importance !\n> plus d’infos
URL:https://cainamur.be/agenda/droit-des-asbl-les-statuts-2/
LOCATION:Zoom
CATEGORIES:Formation
ATTACH;FMTTYPE=image/png:https://cainamur.be/wp-content/uploads/2023/01/2023_visu_form_statuts.png
END:VEVENT
BEGIN:VEVENT
DTSTART;TZID=UTC:20230215T093000
DTEND;TZID=UTC:20230215T163000
DTSTAMP:20260419T161752
CREATED:20230113T115849Z
LAST-MODIFIED:20230126T101436Z
UID:5309-1676453400-1676478600@cainamur.be
SUMMARY:De la multiculturalité à  l’interculturalité : M1 - Initiation à l’interculturalité et découverte des pratiques  interculturelles
DESCRIPTION:1ère session les 15/02\, 19/04\, 15/05/2023 de 9h30 à 16h30\n2ème session les 11\, 13 et 20/10/2023 de 9h30 à 16h30 \nNotion de culture\, de cadre de référence culturel et d’identité. Approche de l’interculturel. Notions et techniques de décentration et d’exploration du cadre de référence culturel de l’Autre\, pour aller au-delà des stéréotypes et préjugés … \n> Plus d’infos \nModule 2 : Concevoir et développer un projet interculturel \nMercredis 13 et 20  et jeudi 28 septembre 2023 de 9h30 à 16h30 \nProgramme de formation 2023\nFormulaire d’inscription\nModalités pratiques des formations et séances d’informations
URL:https://cainamur.be/agenda/de-la-multiculturalite-a-linterculturalite-m1-initiation-a-linterculturalite-et-decouverte-des-pratiques-interculturelles/
LOCATION:CAI Namur\, rue Docteur Haibe 2\, Saint-Servais\, Namur\, 5002\, Belgique
CATEGORIES:Formation
ATTACH;FMTTYPE=image/png:https://cainamur.be/wp-content/uploads/2023/01/2023_visus_form_intercmod1.png
ORGANIZER;CN="CAI Namur":MAILTO:inscriptions@cainamur.be
END:VEVENT
BEGIN:VEVENT
DTSTART;TZID=UTC:20230216T093000
DTEND;TZID=UTC:20230216T123000
DTSTAMP:20260419T161752
CREATED:20230120T133635Z
LAST-MODIFIED:20230126T134323Z
UID:5454-1676539800-1676550600@cainamur.be
SUMMARY:Accompagnement social des personnes sans-papiers: limites et AMU
DESCRIPTION:Les personnes qui vivent en Belgique sans titre de séjour valable sont\, par définition\, exclues de la plupart des droits considérés comme fondamentaux : logement\, emploi\, couverture sociale\, protection mutuelle … ne sont que des exemples qui mettent en avant la précarité extrême dans laquelle les personnes sans papiers se retrouvent.\nCette mise à l’écart de la société rend le travail social très difficile tant toutes les issues et les pistes de solutions semblent bloquées. Comment accompagner quelqu’un.e vers des services qui ne pourront pas l’aider ? Quelles démarches réaliser quand il n’y a rien à faire ? …
URL:https://cainamur.be/agenda/accompagnement-social-des-personnes-sans-papiers-limites-et-amu/
LOCATION:CAI Namur\, rue Docteur Haibe 2\, Saint-Servais\, Namur\, 5002\, Belgique
CATEGORIES:Formation
ATTACH;FMTTYPE=image/jpeg:https://cainamur.be/wp-content/uploads/2023/01/amu-sans-pap-1-scaled.jpg
ORGANIZER;CN="CAI Namur":MAILTO:inscriptions@cainamur.be
END:VEVENT
BEGIN:VEVENT
DTSTART;TZID=UTC:20230217T093000
DTEND;TZID=UTC:20230217T123000
DTSTAMP:20260419T161752
CREATED:20230112T135443Z
LAST-MODIFIED:20230118T155908Z
UID:5223-1676626200-1676637000@cainamur.be
SUMMARY:Connaître son public : Mieux connaître les ukrainien.ne.s bénéficiaires de la  protection temporaire pour mieux les accompagner
DESCRIPTION:Travailler avec un public issu de l’immigration suscite souvent des interrogations sur ces populations.\nD’où viennent-ils ? Pourquoi sont-ils ici ? Quelles sont leurs besoins\, leurs préoccupations ?…\n« Connaître son public » est une formation annuelle composée de plusieurs matinées en ligne dans lesquelles des spécialistes apportent des éléments pour répondre à ces questions\, échangent et co-construisent les savoirs avec les participant.e.s. Ces trois matinées permettent donc de mieux comprendre les réalités qui sous-tendent les migrations des populations et de mieux appréhender les vécus et les trajectoires migratoires des personnes. \n> Plus d’infos \nProgramme de formation 2023\nFormulaire d’inscription\nModalités pratiques des formations et séances d’informations
URL:https://cainamur.be/agenda/connaitre-son-public-mieux-connaitre-les-ukrainien-ne-s-beneficiaires-de-la-protection-temporaire-pour-mieux-les-accompagner/
LOCATION:Zoom
CATEGORIES:Formation
ATTACH;FMTTYPE=image/png:https://cainamur.be/wp-content/uploads/2023/01/2023_visus_form_ukr.png
END:VEVENT
BEGIN:VEVENT
DTSTART;TZID=UTC:20230221T090000
DTEND;TZID=UTC:20230221T123000
DTSTAMP:20260419T161752
CREATED:20230116T160358Z
LAST-MODIFIED:20230116T160439Z
UID:5395-1676970000-1676982600@cainamur.be
SUMMARY:Découverte du répertoire alpha-FLE et foire aux outils
DESCRIPTION:Le Centre d’action interculturelle et la Province de Namur organisent une matinée de présentation du Répertoire d’outils pour l’alphabétisation et le français langue étrangère\, avec la mise en pratique et la découverte dynamique d’une sélection d’outils pédagogiques sortis de l’outilthèque de la Province de Namur. \nLe mardi 21 février 2023 de 9h00 à 12h30\nMaison Administrative de la Province de Namur\nrue Henri Blès 190C\, Namur (Parking aisé) \n> Plus d’infos : http://cainamur.be/decouverte-du-repertoire-alpha-fle-et-foire-aux-outils/
URL:https://cainamur.be/agenda/decouverte-du-repertoire-alpha-fle-et-foire-aux-outils/
LOCATION:Maison administrative provinciale\, rue Henry Bles 190C\, Namur\, Namur\, 5000\, Belgique
CATEGORIES:Ateliers,Matinée découverte,Séance d'information
ATTACH;FMTTYPE=image/png:https://cainamur.be/wp-content/uploads/2023/01/visu-pour-mail.png
ORGANIZER;CN="CAI Namur":MAILTO:inscriptions@cainamur.be
END:VEVENT
END:VCALENDAR